BEGIN:VCALENDAR
VERSION:2.0
PRODID:-//Microsoft Corporation//Outlook for Mac MIMEDIR//EN
METHOD:PUBLISH
BEGIN:VTIMEZONE
TZID:Belgrade, Bratislava, Budapest, Ljubljana, Prague
X-ENTOURAGE-CFTIMEZONE:Europe/Belgrade
X-ENTOURAGE-TZID:10
BEGIN:STANDARD
RRULE:FREQ=YEARLY;INTERVAL=1;BYSECOND=0;BYMINUTE=0;BYHOUR=3;BYDAY=-1SU;BYM
 ONTH=10
TZOFFSETFROM:+0200
TZOFFSETTO:+0100
DTSTART:16011001T030000
END:STANDARD
BEGIN:DAYLIGHT
RRULE:FREQ=YEARLY;INTERVAL=1;BYSECOND=0;BYMINUTE=0;BYHOUR=2;BYDAY=-1SU;BYM
 ONTH=3
TZOFFSETFROM:+0100
TZOFFSETTO:+0200
DTSTART:16010301T020000
END:DAYLIGHT
END:VTIMEZONE
BEGIN:VEVENT
UID:AB99DB22-1E47-44E5-86EF-0A0CA00CC9B7
X-ENTOURAGE_UUID:AB99DB22-1E47-44E5-86EF-0A0CA00CC9B7
X-MICROSOFT-EXCHANGE-ID:AAMkAGMxMmRmMGE3LTY4Y2YtNDFmZi1iMThhLTRlYjFhZDdlZT
 lmNQBGAAAAAADJVW5LFDG2RKUjeyUTPmW/BwCy3kNnfNVESbLwHYLM+RPNAAAAKPWyAADQlSfi
 2TJXT7CVYzQjp0AdAACghbqeAAA=
X-MICROSOFT-EXCHANGE-CHANGEKEY:DwAAABYAAADQlSfi2TJXT7CVYzQjp0AdAAC59X/1
DTSTAMP:20210224T124455Z
DTSTART;TZID="Belgrade, Bratislava, Budapest, Ljubljana,
  Prague":20220308T000000
DTEND;TZID="Belgrade, Bratislava, Budapest, Ljubljana,
  Prague":20220309T000000
LAST-MODIFIED:20210224T124455Z
SUMMARY:Save the Date — 5th Wind & Drivetrain Conference 2022
DESCRIPTION:Dear Participant\,\n\n\n\nThis is a reminder for the upcoming
  5th Wind & Drivetrain Conference.\n\nDate: March 08\, 2022\n\nLocation:
  Radisson Blu Hotel in Hamburg\, Germany\n\n\n\nDon’t miss this unique
  event and please don’t forget to register\, if you haven’t already.
  \nRegistration by February 25\, 2022 is required in order to attend the
  event. For more information and registration please visit our
  website.\n\n\n\nWe look forward to welcoming you in Hamburg.\n\n\n\nKind
  regards\,\n\nYour Dassault Systèmes SIMULIA Event team\n\n\n\n\n\nIn
  case of question please contact:\n\n\nSteve MULSKI\nSIMULIA IPS\, Wind
  Energy Executive\, Industry Process Expert\n\n\nNicole BLUM\nAdvocacy
  Senior Marketing Manager \nSIMULIA Brand Advocacy Marketing Senior
  Manager\n\nSIMULIA.DE.CONFERENCE@3DS.COM\n\n3DS.COM/SIMULIA\nThe SIMULIA
  Blog — Reveal the World We Live In\n\nDassault Systemes Deutschland
  GmbH | Friedrichshafener Strasse 1 | 82205 Gilching |
  Germany\nGeschäftsführer (Managing Directors): Klaus Löckel\, Dr.
  Christian Speth\, Vorsitzender des Aufsichtsrates (Chairman of the
  Supervisory Board): Olivier Ribet\nHandelsregister (Commercial
  Register): Amtsgericht Stuttgart HRB 262373 Umsatzsteuer (VAT) ID: DE
  147 319 694\n\n-----\n\n\n
LOCATION:Radisson Blu\, Hamburg\, Germany
ORGANIZER:MAILTO:Nicole.BLUM@3ds.com
SEQUENCE:0
X-MICROSOFT-CDO-BUSYSTATUS:FREE
X-MICROSOFT-CDO-ALLDAYEVENT:TRUE
X-MICROSOFT-DISALLOW-COUNTER:FALSE
X-MICROSOFT-DONOTFORWARDMEETING:FALSE
X-MICROSOFT-CDO-INSTTYPE:0
BEGIN:VALARM
ACTION:DISPLAY
DESCRIPTION:REMINDER
TRIGGER;RELATED=START:-PT336H00M00S
END:VALARM
END:VEVENT
END:VCALENDAR
